BEGIN:VCALENDAR
VERSION:2.0
PRODID:-//Aviva - ECPv6.15.20//NONSGML v1.0//EN
CALSCALE:GREGORIAN
METHOD:PUBLISH
X-ORIGINAL-URL:https://www.avivaseniorlife.org
X-WR-CALDESC:Events for Aviva
REFRESH-INTERVAL;VALUE=DURATION:PT1H
X-Robots-Tag:noindex
X-PUBLISHED-TTL:PT1H
BEGIN:VTIMEZONE
TZID:UTC
BEGIN:STANDARD
TZOFFSETFROM:+0000
TZOFFSETTO:+0000
TZNAME:UTC
DTSTART:20250101T000000
END:STANDARD
END:VTIMEZONE
BEGIN:VEVENT
DTSTART;TZID=UTC:20260611T110000
DTEND;TZID=UTC:20260611T120000
DTSTAMP:20260421T143320
CREATED:20260409T185026Z
LAST-MODIFIED:20260410T144140Z
UID:2321-1781175600-1781179200@www.avivaseniorlife.org
SUMMARY:Ernie Kretzmer Concert Series: Tom Purviance
DESCRIPTION:Aviva presents Tom Purviance \nThomas Purviance has been a leading presence in Sarasota’s music scene since 2015. He has performed with organizations including the Steinway Society of Sarasota\, MusicaViva\, and the Pops Orchestra of Sarasota and Bradenton\, where he appeared as soloist in Rhapsody in Blue. Acclaimed for his interpretations of Chopin\, Liszt\, and Rachmaninoff\, his performances have drawn praise for their virtuosity and passion. An active educator and adjudicator\, he currently maintains a private piano studio specializing in adult and senior instruction. \nRSVPs are required! Please call 813-400-3277 to RSVP. \nWe kindly request all RSVPs be submitted 5 days prior to the event. \nThis concert is presented as part of Aviva’s 2026 Ernie Kretzmer Concert Series. A full calendar of incredible live musical performances in honor of our friend\, Ernie Kretzmer. Ernie’s passion for the arts\, particularly music\, has helped support dozens of performances and artists throughout Sarasota. Aviva is honored to continue Ernie’s legacy through our newly named annual concert series.
URL:https://www.avivaseniorlife.org/event/ernie-kretzmer-concert-series-tom-purviance/
LOCATION:The Kretzmer Center at Aviva\, 1951 N. Honore Ave\, Sarasota\, FL\, 34235\, United States
CATEGORIES:2026 Concert Series,All Events
ATTACH;FMTTYPE=image/png:https://www.avivaseniorlife.org/wp-content/uploads/2026/04/Kretzmer-Concert-Series-Event-Page-Tom-Purviance.png
END:VEVENT
END:VCALENDAR