BEGIN:VCALENDAR
VERSION:2.0
PRODID:-//Aviva - ECPv6.15.20//NONSGML v1.0//EN
CALSCALE:GREGORIAN
METHOD:PUBLISH
X-ORIGINAL-URL:https://www.avivaseniorlife.org
X-WR-CALDESC:Events for Aviva
REFRESH-INTERVAL;VALUE=DURATION:PT1H
X-Robots-Tag:noindex
X-PUBLISHED-TTL:PT1H
BEGIN:VTIMEZONE
TZID:UTC
BEGIN:STANDARD
TZOFFSETFROM:+0000
TZOFFSETTO:+0000
TZNAME:UTC
DTSTART:20250101T000000
END:STANDARD
END:VTIMEZONE
BEGIN:VEVENT
DTSTART;TZID=UTC:20260709T110000
DTEND;TZID=UTC:20260709T120000
DTSTAMP:20260421T162338
CREATED:20260409T190503Z
LAST-MODIFIED:20260410T144140Z
UID:2323-1783594800-1783598400@www.avivaseniorlife.org
SUMMARY:Ernie Kretzmer Concert Series: Jonathan Godfrey
DESCRIPTION:Aviva presents Jonathan Godfrey \nJonathan Godfrey is a sought-after guitarist and composer in the Tampa Bay region\, praised as “invitingly poetic” and a staple of South Florida’s music scene. He has performed in more than 100 concerts with The Florida Orchestra and appeared with ensembles including the Sarasota Orchestra\, Sarasota Opera\, and St. Pete Baroque\, sharing the stage with artists such as Bernadette Peters. Head of guitar studies at the University of South Florida\, Godfrey presents solo programs that are both engaging and accessible\, featuring Spanish and classical works by composers ranging from Bach to Pat Metheny. \nRSVPs are required! Please call 813-400-3277 to RSVP. \nWe kindly request all RSVPs be submitted 5 days prior to the event. \nThis concert is presented as part of Aviva’s 2026 Ernie Kretzmer Concert Series. A full calendar of incredible live musical performances in honor of our friend\, Ernie Kretzmer. Ernie’s passion for the arts\, particularly music\, has helped support dozens of performances and artists throughout Sarasota. Aviva is honored to continue Ernie’s legacy through our newly named annual concert series.
URL:https://www.avivaseniorlife.org/event/ernie-kretzmer-concert-series-jonathan-godfrey/
LOCATION:The Kretzmer Center at Aviva\, 1951 N. Honore Ave\, Sarasota\, FL\, 34235\, United States
CATEGORIES:2026 Concert Series,All Events
ATTACH;FMTTYPE=image/png:https://www.avivaseniorlife.org/wp-content/uploads/2026/04/Kretzmer-Concert-Series-Event-Page-Jonathan-Godfrey.png
END:VEVENT
END:VCALENDAR