BEGIN:VCALENDAR
VERSION:2.0
PRODID:-//Aviva - ECPv6.15.20//NONSGML v1.0//EN
CALSCALE:GREGORIAN
METHOD:PUBLISH
X-WR-CALNAME:Aviva
X-ORIGINAL-URL:https://www.avivaseniorlife.org
X-WR-CALDESC:Events for Aviva
REFRESH-INTERVAL;VALUE=DURATION:PT1H
X-Robots-Tag:noindex
X-PUBLISHED-TTL:PT1H
BEGIN:VTIMEZONE
TZID:UTC
BEGIN:STANDARD
TZOFFSETFROM:+0000
TZOFFSETTO:+0000
TZNAME:UTC
DTSTART:20250101T000000
END:STANDARD
END:VTIMEZONE
BEGIN:VEVENT
DTSTART;TZID=UTC:20261112T110000
DTEND;TZID=UTC:20261112T120000
DTSTAMP:20260425T122116
CREATED:20260409T191738Z
LAST-MODIFIED:20260410T144140Z
UID:2329-1794481200-1794484800@www.avivaseniorlife.org
SUMMARY:Ernie Kretzmer Concert Series: Trio NOVO
DESCRIPTION:Aviva presents Trio NOVO \nTrio NOVO is a Sarasota-based chamber ensemble dedicated to vibrant\, engaging performances that honor tradition while embracing fresh perspectives. Pianist Lise Frank\, violinist Carlann Evans\, and cellist Michael Amos bring together deep musical training and wide-ranging experience\, guided by esteemed mentors including Rebecca Penneys and Scott Kluksdahl. Their thoughtfully curated programs reflect years of study and travel\, blending insight\, enthusiasm\, and artistry. With a natural chemistry spanning three generations\, Trio NOVO offers audiences concerts filled with discovery\, connection\, and musical beauty. \nRSVPs are required! Please call 813-400-3277 to RSVP. \nWe kindly request all RSVPs be submitted 5 days prior to the event. \nThis concert is presented as part of Aviva’s 2026 Ernie Kretzmer Concert Series. A full calendar of incredible live musical performances in honor of our friend\, Ernie Kretzmer. Ernie’s passion for the arts\, particularly music\, has helped support dozens of performances and artists throughout Sarasota. Aviva is honored to continue Ernie’s legacy through our newly named annual concert series.
URL:https://www.avivaseniorlife.org/event/ernie-kretzmer-concert-series-trio-novo/
LOCATION:The Kretzmer Center at Aviva\, 1951 N. Honore Ave\, Sarasota\, FL\, 34235\, United States
CATEGORIES:2026 Concert Series,All Events
ATTACH;FMTTYPE=image/png:https://www.avivaseniorlife.org/wp-content/uploads/2026/04/Kretzmer-Concert-Series-Event-Page-Trio-NOVO.png
END:VEVENT
END:VCALENDAR