BEGIN:VCALENDAR
VERSION:2.0
PRODID:-//Aviva - ECPv6.15.20//NONSGML v1.0//EN
CALSCALE:GREGORIAN
METHOD:PUBLISH
X-WR-CALNAME:Aviva
X-ORIGINAL-URL:https://www.avivaseniorlife.org
X-WR-CALDESC:Events for Aviva
REFRESH-INTERVAL;VALUE=DURATION:PT1H
X-Robots-Tag:noindex
X-PUBLISHED-TTL:PT1H
BEGIN:VTIMEZONE
TZID:UTC
BEGIN:STANDARD
TZOFFSETFROM:+0000
TZOFFSETTO:+0000
TZNAME:UTC
DTSTART:20250101T000000
END:STANDARD
END:VTIMEZONE
BEGIN:VEVENT
DTSTART;TZID=UTC:20261210T110000
DTEND;TZID=UTC:20261210T120000
DTSTAMP:20260425T140055
CREATED:20260409T192128Z
LAST-MODIFIED:20260410T144140Z
UID:2331-1796900400-1796904000@www.avivaseniorlife.org
SUMMARY:Ernie Kretzmer Concert Series: Claudio Jaffé
DESCRIPTION:Aviva presents Claudio Jaffé. \nClaudio Jaffé began his solo career at age eleven with an orchestral debut in his native Brazil and has since performed in major musical centers worldwide\, including New York\, London\, Tokyo\, and Buenos Aires. Praised by The New York Times as “an elegant and accomplished artist\,” he is principal cellist of the Florida Grand Opera and Palm Beach Symphony and serves as Music Director of the Florida Youth Orchestra. A prizewinner in international competitions\, Jaffé holds four degrees from Yale University\, including a Doctor of Musical Arts\, and is widely respected as a performer\, conductor\, and educator. \nRSVPs are required! Please call 813-400-3277 to RSVP. \nWe kindly request all RSVPs be submitted 5 days prior to the event. \nThis concert is presented as part of Aviva’s 2026 Ernie Kretzmer Concert Series. A full calendar of incredible live musical performances in honor of our friend\, Ernie Kretzmer. Ernie’s passion for the arts\, particularly music\, has helped support dozens of performances and artists throughout Sarasota. Aviva is honored to continue Ernie’s legacy through our newly named annual concert series.
URL:https://www.avivaseniorlife.org/event/ernie-kretzmer-concert-series-claudio-jaffe/
LOCATION:The Kretzmer Center at Aviva\, 1951 N. Honore Ave\, Sarasota\, FL\, 34235\, United States
CATEGORIES:2026 Concert Series,All Events
ATTACH;FMTTYPE=image/png:https://www.avivaseniorlife.org/wp-content/uploads/2026/04/Kretzmer-Concert-Series-Event-Page-Claudio-Jaffe.png
END:VEVENT
END:VCALENDAR